{
 "currentVersion": 11.4,
 "cimVersion": "3.4.0",
 "serviceDescription": "Basemap for iMap application",
 "mapName": "Base Map",
 "description": "Basemap for iMap application",
 "copyrightText": "Town of Clarkstown Planning, GIS",
 "supportsDynamicLayers": true,
 "layers": [
  {
   "id": 0,
   "name": "Hudson River",
   "parentLayerId": -1,
   "defaultVisibility": true,
   "subLayerIds": null,
   "minScale": 0,
   "maxScale": 0,
   "type": "Feature Layer",
   "geometryType": "esriGeometryPolygon",
   "supportsDynamicLegends": true
  },
  {
   "id": 1,
   "name": "Rockland County Towns and Villages",
   "parentLayerId": -1,
   "defaultVisibility": true,
   "subLayerIds": null,
   "minScale": 0,
   "maxScale": 0,
   "type": "Feature Layer",
   "geometryType": "esriGeometryPolygon",
   "supportsDynamicLegends": true
  },
  {
   "id": 2,
   "name": "Building Outlines",
   "parentLayerId": -1,
   "defaultVisibility": true,
   "subLayerIds": null,
   "minScale": 8000,
   "maxScale": 0,
   "type": "Feature Layer",
   "geometryType": "esriGeometryPolygon",
   "supportsDynamicLegends": true
  },
  {
   "id": 3,
   "name": "Active Rail Lines",
   "parentLayerId": -1,
   "defaultVisibility": true,
   "subLayerIds": null,
   "minScale": 32000,
   "maxScale": 0,
   "type": "Feature Layer",
   "geometryType": "esriGeometryPolyline",
   "supportsDynamicLegends": true
  },
  {
   "id": 4,
   "name": "Clarkstown Lakes and Streams",
   "parentLayerId": -1,
   "defaultVisibility": true,
   "subLayerIds": [
    5,
    6
   ],
   "minScale": 0,
   "maxScale": 0,
   "type": "Group Layer",
   "supportsDynamicLegends": false
  },
  {
   "id": 5,
   "name": "Clarkstown Lakes",
   "parentLayerId": 4,
   "defaultVisibility": true,
   "subLayerIds": null,
   "minScale": 0,
   "maxScale": 0,
   "type": "Feature Layer",
   "geometryType": "esriGeometryPolygon",
   "supportsDynamicLegends": true
  },
  {
   "id": 6,
   "name": "Clarkstown Streams",
   "parentLayerId": 4,
   "defaultVisibility": true,
   "subLayerIds": null,
   "minScale": 0,
   "maxScale": 0,
   "type": "Feature Layer",
   "geometryType": "esriGeometryPolygon",
   "supportsDynamicLegends": true
  },
  {
   "id": 7,
   "name": "Rockland Lakes and Streams",
   "parentLayerId": -1,
   "defaultVisibility": true,
   "subLayerIds": [
    8,
    9
   ],
   "minScale": 0,
   "maxScale": 0,
   "type": "Group Layer",
   "supportsDynamicLegends": false
  },
  {
   "id": 8,
   "name": "Rockland Lakes",
   "parentLayerId": 7,
   "defaultVisibility": true,
   "subLayerIds": null,
   "minScale": 0,
   "maxScale": 0,
   "type": "Feature Layer",
   "geometryType": "esriGeometryPolygon",
   "supportsDynamicLegends": true
  },
  {
   "id": 9,
   "name": "Rockland Streams",
   "parentLayerId": 7,
   "defaultVisibility": true,
   "subLayerIds": null,
   "minScale": 0,
   "maxScale": 0,
   "type": "Feature Layer",
   "geometryType": "esriGeometryPolygon",
   "supportsDynamicLegends": true
  },
  {
   "id": 10,
   "name": "Public Schools",
   "parentLayerId": -1,
   "defaultVisibility": true,
   "subLayerIds": null,
   "minScale": 64000,
   "maxScale": 0,
   "type": "Feature Layer",
   "geometryType": "esriGeometryPolygon",
   "supportsDynamicLegends": true
  },
  {
   "id": 11,
   "name": "Parks",
   "parentLayerId": -1,
   "defaultVisibility": true,
   "subLayerIds": [
    12,
    13,
    14,
    15,
    16,
    17
   ],
   "minScale": 0,
   "maxScale": 0,
   "type": "Group Layer",
   "supportsDynamicLegends": false
  },
  {
   "id": 12,
   "name": "Clarkstown Parks",
   "parentLayerId": 11,
   "defaultVisibility": true,
   "subLayerIds": null,
   "minScale": 64000,
   "maxScale": 0,
   "type": "Feature Layer",
   "geometryType": "esriGeometryPolygon",
   "supportsDynamicLegends": true
  },
  {
   "id": 13,
   "name": "Clarkstown Municipal Holdings",
   "parentLayerId": 11,
   "defaultVisibility": true,
   "subLayerIds": null,
   "minScale": 64000,
   "maxScale": 0,
   "type": "Feature Layer",
   "geometryType": "esriGeometryPolygon",
   "supportsDynamicLegends": true
  },
  {
   "id": 14,
   "name": "Clarkstown Open Space",
   "parentLayerId": 11,
   "defaultVisibility": true,
   "subLayerIds": null,
   "minScale": 64000,
   "maxScale": 0,
   "type": "Feature Layer",
   "geometryType": "esriGeometryPolygon",
   "supportsDynamicLegends": true
  },
  {
   "id": 15,
   "name": "Clarkstown Other",
   "parentLayerId": 11,
   "defaultVisibility": true,
   "subLayerIds": null,
   "minScale": 64000,
   "maxScale": 0,
   "type": "Feature Layer",
   "geometryType": "esriGeometryPolygon",
   "supportsDynamicLegends": true
  },
  {
   "id": 16,
   "name": "Rockland County Parks",
   "parentLayerId": 11,
   "defaultVisibility": true,
   "subLayerIds": null,
   "minScale": 64000,
   "maxScale": 0,
   "type": "Feature Layer",
   "geometryType": "esriGeometryPolygon",
   "supportsDynamicLegends": true
  },
  {
   "id": 17,
   "name": "New York State Parks",
   "parentLayerId": 11,
   "defaultVisibility": true,
   "subLayerIds": null,
   "minScale": 0,
   "maxScale": 0,
   "type": "Feature Layer",
   "geometryType": "esriGeometryPolygon",
   "supportsDynamicLegends": true
  },
  {
   "id": 18,
   "name": "Rockland County Towns and Villages",
   "parentLayerId": -1,
   "defaultVisibility": true,
   "subLayerIds": null,
   "minScale": 0,
   "maxScale": 0,
   "type": "Feature Layer",
   "geometryType": "esriGeometryPolygon",
   "supportsDynamicLegends": true
  },
  {
   "id": 19,
   "name": "Rockland Roads",
   "parentLayerId": -1,
   "defaultVisibility": true,
   "subLayerIds": [
    20,
    21
   ],
   "minScale": 0,
   "maxScale": 0,
   "type": "Group Layer",
   "supportsDynamicLegends": false
  },
  {
   "id": 20,
   "name": "Rockland Roads",
   "parentLayerId": 19,
   "defaultVisibility": true,
   "subLayerIds": null,
   "minScale": 0,
   "maxScale": 64001,
   "type": "Feature Layer",
   "geometryType": "esriGeometryPolyline",
   "supportsDynamicLegends": true
  },
  {
   "id": 21,
   "name": "Rockland Roads",
   "parentLayerId": 19,
   "defaultVisibility": true,
   "subLayerIds": null,
   "minScale": 64000,
   "maxScale": 0,
   "type": "Feature Layer",
   "geometryType": "esriGeometryPolyline",
   "supportsDynamicLegends": true
  },
  {
   "id": 22,
   "name": "Rockland County Towns and Villages",
   "parentLayerId": -1,
   "defaultVisibility": true,
   "subLayerIds": null,
   "minScale": 0,
   "maxScale": 0,
   "type": "Feature Layer",
   "geometryType": "esriGeometryPolygon",
   "supportsDynamicLegends": true
  }
 ],
 "tables": [],
 "spatialReference": {
  "wkid": 102715,
  "latestWkid": 2260,
  "xyTolerance": 0.003280833333333333,
  "zTolerance": 2,
  "mTolerance": 0.001,
  "falseX": -17954600,
  "falseY": -46918100,
  "xyUnits": 1.3725506987923574E8,
  "falseZ": 0,
  "zUnits": 1,
  "falseM": -100000,
  "mUnits": 10000
 },
 "singleFusedMapCache": true,
 "tileInfo": {
  "rows": 256,
  "cols": 256,
  "dpi": 96,
  "format": "PNG",
  "compressionQuality": 0,
  "origin": {
   "x": -17954600,
   "y": 1.8705699999999993E7
  },
  "spatialReference": {
   "wkid": 102715,
   "latestWkid": 2260,
   "xyTolerance": 0.003280833333333333,
   "zTolerance": 2,
   "mTolerance": 0.001,
   "falseX": -17954600,
   "falseY": -46918100,
   "xyUnits": 1.3725506987923574E8,
   "falseZ": 0,
   "zUnits": 1,
   "falseM": -100000,
   "mUnits": 10000
  },
  "lods": [
   {
    "level": 0,
    "resolution": 222.2222222222222,
    "scale": 256000
   },
   {
    "level": 1,
    "resolution": 111.1111111111111,
    "scale": 128000
   },
   {
    "level": 2,
    "resolution": 55.55555555555555,
    "scale": 64000
   },
   {
    "level": 3,
    "resolution": 27.777777777777775,
    "scale": 32000
   },
   {
    "level": 4,
    "resolution": 13.888888888888888,
    "scale": 16000
   },
   {
    "level": 5,
    "resolution": 6.944444444444444,
    "scale": 8000
   },
   {
    "level": 6,
    "resolution": 3.472222222222222,
    "scale": 4000
   },
   {
    "level": 7,
    "resolution": 1.736111111111111,
    "scale": 2000
   },
   {
    "level": 8,
    "resolution": 0.8680555555555555,
    "scale": 1000
   },
   {
    "level": 9,
    "resolution": 0.43402777777777773,
    "scale": 500
   }
  ]
 },
 "storageInfo": {
  "storageFormat": "esriMapCacheStorageModeCompactV2",
  "packetSize": 128
 },
 "initialExtent": {
  "xmin": 635980.3989430082,
  "ymin": 823429.402471835,
  "xmax": 655515.5647361116,
  "ymax": 838279.8318235592,
  "spatialReference": {
   "wkid": 102715,
   "latestWkid": 2260,
   "xyTolerance": 0.003280833333333333,
   "zTolerance": 2,
   "mTolerance": 0.001,
   "falseX": -17954600,
   "falseY": -46918100,
   "xyUnits": 1.3725506987923574E8,
   "falseZ": 0,
   "zUnits": 1,
   "falseM": -100000,
   "mUnits": 10000
  }
 },
 "fullExtent": {
  "xmin": 565266.922790505,
  "ymin": 786349.4531149864,
  "xmax": 666836.8751619942,
  "ymax": 907443.3536432609,
  "spatialReference": {
   "wkid": 102715,
   "latestWkid": 2260,
   "xyTolerance": 0.003280833333333333,
   "zTolerance": 2,
   "mTolerance": 0.001,
   "falseX": -17954600,
   "falseY": -46918100,
   "xyUnits": 1.3725506987923574E8,
   "falseZ": 0,
   "zUnits": 1,
   "falseM": -100000,
   "mUnits": 10000
  }
 },
 "datesInUnknownTimezone": false,
 "minScale": 256000,
 "maxScale": 500,
 "minLOD": 0,
 "maxLOD": 9,
 "units": "esriFeet",
 "supportedImageFormatTypes": "PNG32,PNG24,PNG,JPG,DIB,TIFF,EMF,PS,PDF,GIF,SVG,SVGZ,BMP",
 "documentInfo": {
  "Title": "flexBase1",
  "Author": "",
  "Comments": "Basemap for iMap application",
  "Subject": "Basemap for iMap application",
  "Category": "",
  "Version": "3.4.0",
  "AntialiasingMode": "Fast",
  "TextAntialiasingMode": "Force",
  "Keywords": "Clarkstown,iMap"
 },
 "supportsQueryDomains": true,
 "capabilities": "Map,Query,Data",
 "supportedQueryFormats": "JSON, geoJSON, PBF",
 "hasVersionedData": true,
 "exportTilesAllowed": false,
 "referenceScale": 0.0,
 "datumTransformations": [
  {
   "geoTransforms": [
    {
     "wkid": 108001,
     "latestWkid": 1241,
     "transformForward": true,
     "name": "NAD_1927_To_NAD_1983_NADCON"
    }
   ]
  },
  {
   "geoTransforms": [
    {
     "wkid": 108001,
     "latestWkid": 1241,
     "transformForward": false,
     "name": "NAD_1927_To_NAD_1983_NADCON"
    }
   ]
  }
 ],
 "supportsDatumTransformation": true,
 "floorAwareMapProperties": {
  "defaultFloorFilterSettings": {
   "isEnabled": true
  }
 },
 "archivingInfo": {
  "supportsHistoricMoment": false
 },
 "supportsClipping": true,
 "supportsSpatialFilter": true,
 "supportsTimeRelation": true,
 "supportsQueryDataElements": true,
 "mapUnits": {
  "uwkid": 9003
 },
 "maxSelectionCount": 2000,
 "maxRecordCount": 2000,
 "maxImageHeight": 4096,
 "maxImageWidth": 4096,
 "supportedExtensions": "",
 "resampling": false,
 "serviceItemId": "238a1a96eadf4d4c98221fcc0f02073a"
}
