<?xml version="1.0" encoding="UTF-8"?>
<Capabilities xmlns="http://www.opengis.net/wmts/1.0"
xmlns:ows="http://www.opengis.net/ows/1.1"
xmlns:xlink="http://www.w3.org/1999/xlink"
xmlns:xsi="http://www.w3.org/2001/XMLSchema-instance"
xmlns:gml="http://www.opengis.net/gml"
xsi:schemaLocation="http://www.opengis.net/wmts/1.0 http://schemas.opengis.net/wmts/1.0/wmtsGetCapabilities_response.xsd"
version="1.0.0">
<!-- Service Identification --> <ows:ServiceIdentification>
<ows:Title>Basemaps_iMap_BaseMap</ows:Title>
<ows:ServiceType>OGC WMTS</ows:ServiceType>
<ows:ServiceTypeVersion>1.0.0</ows:ServiceTypeVersion>
</ows:ServiceIdentification> <!-- Operations Metadata --> <ows:OperationsMetadata>
<ows:Operation name="GetCapabilities">
<ows:DCP>
<ows:HTTP>
<ows:Get xlink:href="https://tocgissql.clarkstown.org/arcgis/rest/services/Basemaps/iMap_BaseMap/MapServer/WMTS/1.0.0/WMTSCapabilities.xml">
<ows:Constraint name="GetEncoding">
<ows:AllowedValues>
<ows:Value>RESTful</ows:Value>
</ows:AllowedValues>
</ows:Constraint>
</ows:Get>
<!-- add KVP binding in 10.1 -->
<ows:Get xlink:href="https://tocgissql.clarkstown.org/arcgis/rest/services/Basemaps/iMap_BaseMap/MapServer/WMTS?">
<ows:Constraint name="GetEncoding">
<ows:AllowedValues>
<ows:Value>KVP</ows:Value>
</ows:AllowedValues>
</ows:Constraint>
</ows:Get>
</ows:HTTP>
</ows:DCP>
</ows:Operation>
<ows:Operation name="GetTile">
<ows:DCP>
<ows:HTTP>
<ows:Get xlink:href="https://tocgissql.clarkstown.org/arcgis/rest/services/Basemaps/iMap_BaseMap/MapServer/WMTS/tile/1.0.0/">
<ows:Constraint name="GetEncoding">
<ows:AllowedValues>
<ows:Value>RESTful</ows:Value>
</ows:AllowedValues>
</ows:Constraint>
</ows:Get>
<ows:Get xlink:href="https://tocgissql.clarkstown.org/arcgis/rest/services/Basemaps/iMap_BaseMap/MapServer/WMTS?">
<ows:Constraint name="GetEncoding">
<ows:AllowedValues>
<ows:Value>KVP</ows:Value>
</ows:AllowedValues>
</ows:Constraint>
</ows:Get>
</ows:HTTP>
</ows:DCP>
</ows:Operation>
</ows:OperationsMetadata> <Contents>
<!--Layer--> <Layer>
<ows:Title>Basemaps_iMap_BaseMap</ows:Title> <ows:Identifier>Basemaps_iMap_BaseMap</ows:Identifier>
<ows:BoundingBox crs="urn:ogc:def:crs:EPSG::2260">
<ows:LowerCorner>565266.922790505 786349.4531149864</ows:LowerCorner>
<ows:UpperCorner>666836.8751619942 907443.3536432609</ows:UpperCorner>
</ows:BoundingBox> <ows:WGS84BoundingBox crs="urn:ogc:def:crs:OGC:2:84">
<ows:LowerCorner>-74.23503136050445 40.99044782249097</ows:LowerCorner>
<ows:UpperCorner>-73.86388757067009 41.3242577975046</ows:UpperCorner>
</ows:WGS84BoundingBox>
<Style isDefault="true">
<ows:Title>Default Style</ows:Title>
<ows:Identifier>default</ows:Identifier>
</Style>
<Format>image/png</Format>
<TileMatrixSetLink>
<TileMatrixSet>default028mm</TileMatrixSet>
</TileMatrixSetLink>
<ResourceURL format="image/png" resourceType="tile" template="https://tocgissql.clarkstown.org/arcgis/rest/services/Basemaps/iMap_BaseMap/MapServer/WMTS/tile/1.0.0/Basemaps_iMap_BaseMap/{Style}/{TileMatrixSet}/{TileMatrix}/{TileRow}/{TileCol}.png" />
</Layer> <!--TileMatrixSet-->
<TileMatrixSet>
<ows:Title>TileMatrix using 0.28mm</ows:Title>
<ows:Abstract>The tile matrix set that has scale values calculated based on the dpi defined by OGC specification (dpi assumes 0.28mm as the physical distance of a pixel).</ows:Abstract> <ows:Identifier>default028mm</ows:Identifier>
<ows:SupportedCRS>urn:ogc:def:crs:EPSG::2260</ows:SupportedCRS>
<TileMatrix>
<ows:Identifier>0</ows:Identifier>
<ScaleDenominator>241905.2457152229</ScaleDenominator>
<TopLeftCorner>-1.79546E7 1.8705699999999993E7</TopLeftCorner> <TileWidth>256</TileWidth> <TileHeight>256</TileHeight>
<MatrixWidth>328</MatrixWidth> <MatrixHeight>315</MatrixHeight>
</TileMatrix>
<TileMatrix>
<ows:Identifier>1</ows:Identifier>
<ScaleDenominator>120952.62285761145</ScaleDenominator>
<TopLeftCorner>-1.79546E7 1.8705699999999993E7</TopLeftCorner> <TileWidth>256</TileWidth> <TileHeight>256</TileHeight>
<MatrixWidth>655</MatrixWidth> <MatrixHeight>630</MatrixHeight>
</TileMatrix>
<TileMatrix>
<ows:Identifier>2</ows:Identifier>
<ScaleDenominator>60476.311428805726</ScaleDenominator>
<TopLeftCorner>-1.79546E7 1.8705699999999993E7</TopLeftCorner> <TileWidth>256</TileWidth> <TileHeight>256</TileHeight>
<MatrixWidth>1310</MatrixWidth> <MatrixHeight>1260</MatrixHeight>
</TileMatrix>
<TileMatrix>
<ows:Identifier>3</ows:Identifier>
<ScaleDenominator>30238.155714402863</ScaleDenominator>
<TopLeftCorner>-1.79546E7 1.8705699999999993E7</TopLeftCorner> <TileWidth>256</TileWidth> <TileHeight>256</TileHeight>
<MatrixWidth>2619</MatrixWidth> <MatrixHeight>2520</MatrixHeight>
</TileMatrix>
<TileMatrix>
<ows:Identifier>4</ows:Identifier>
<ScaleDenominator>15119.077857201431</ScaleDenominator>
<TopLeftCorner>-1.79546E7 1.8705699999999993E7</TopLeftCorner> <TileWidth>256</TileWidth> <TileHeight>256</TileHeight>
<MatrixWidth>5238</MatrixWidth> <MatrixHeight>5040</MatrixHeight>
</TileMatrix>
<TileMatrix>
<ows:Identifier>5</ows:Identifier>
<ScaleDenominator>7559.538928600716</ScaleDenominator>
<TopLeftCorner>-1.79546E7 1.8705699999999993E7</TopLeftCorner> <TileWidth>256</TileWidth> <TileHeight>256</TileHeight>
<MatrixWidth>10475</MatrixWidth> <MatrixHeight>10080</MatrixHeight>
</TileMatrix>
<TileMatrix>
<ows:Identifier>6</ows:Identifier>
<ScaleDenominator>3779.769464300358</ScaleDenominator>
<TopLeftCorner>-1.79546E7 1.8705699999999993E7</TopLeftCorner> <TileWidth>256</TileWidth> <TileHeight>256</TileHeight>
<MatrixWidth>20950</MatrixWidth> <MatrixHeight>20160</MatrixHeight>
</TileMatrix>
<TileMatrix>
<ows:Identifier>7</ows:Identifier>
<ScaleDenominator>1889.884732150179</ScaleDenominator>
<TopLeftCorner>-1.79546E7 1.8705699999999993E7</TopLeftCorner> <TileWidth>256</TileWidth> <TileHeight>256</TileHeight>
<MatrixWidth>41899</MatrixWidth> <MatrixHeight>40319</MatrixHeight>
</TileMatrix>
<TileMatrix>
<ows:Identifier>8</ows:Identifier>
<ScaleDenominator>944.9423660750895</ScaleDenominator>
<TopLeftCorner>-1.79546E7 1.8705699999999993E7</TopLeftCorner> <TileWidth>256</TileWidth> <TileHeight>256</TileHeight>
<MatrixWidth>83797</MatrixWidth> <MatrixHeight>80638</MatrixHeight>
</TileMatrix>
<TileMatrix>
<ows:Identifier>9</ows:Identifier>
<ScaleDenominator>472.47118303754473</ScaleDenominator>
<TopLeftCorner>-1.79546E7 1.8705699999999993E7</TopLeftCorner> <TileWidth>256</TileWidth> <TileHeight>256</TileHeight>
<MatrixWidth>167593</MatrixWidth> <MatrixHeight>161275</MatrixHeight>
</TileMatrix>
</TileMatrixSet>
</Contents>
<ServiceMetadataURL xlink:href="https://tocgissql.clarkstown.org/arcgis/rest/services/Basemaps/iMap_BaseMap/MapServer/WMTS/1.0.0/WMTSCapabilities.xml" /> </Capabilities>
